Workbook

Sheet Содержание
F2: ПРАЙС-ЛИСТ | Q2: 5 июля 2017 г.
B3: Технические характеристики оборудования, представленные в прайс-листе, могут отличаться от фактических. Информацию уточняйте на сайте novicam.ru или по тел.: 8-800-555-0520
B4: Содержание | P4: июль 2018г
C5: Акции и спецпредложения | I5: . . . . . . . . . . . . . . . . . . . . . . . . . . . . . . . . . . . . . . . . . . . . . . . . . . . . . . . . . . . . . . . | T5: 3
C6: Камеры | E6: . . . . . . . . . . . . . . . . . . . . . . . . . . . . . . . . . . . . . . . . . . . . . . . . . . . . . . . . . . . . . . . | T6: 4
D7: АНАЛОГОВЫЕ ВИДЕОКАМЕРЫ 650ТВЛ | J7: . . . . . . . . . . . . . . . . . . . . . . . . . . . . . . . . . . . . . . . . . | T7: 4
D8: AHD КАМЕРЫ 720р и 1080p | H8: . . . . . . . . . . . . . . . . . . . . . . . . . . . . . . . . . . . . . . . . . . . . . . . . . . . . . . . . . . . . . . . | T8: 4
E9: Внутренние камеры AHD
E10: Уличные (IP66) камеры AHD
D11: HD-TVI КАМЕРЫ | G11: . . . . . . . . . . . . . . . . . . . . . . . . . . . . . . . . . . . . . . . . . . . . . . . . | T11: 5
E12: Внутренние камеры HD-TVI
E13: Уличные (IP66) камеры HD-TVI
E14: HD-TVI камеры 3мп
D15: МУЛЬТИФОРМАТНЫЕ КАМЕРЫ "4 В 1" (AHD/TVI/CVI/Аналог) | M15: . . . . . . . . . . . . . . . . . . . . . . . . . . . . . . . . . . . . . . . . . . . . . . . . | T15: 6
E16: Внутренние мультиформатные камеры "4 в 1"
E17: Уличные (IP66) мультиформатные камеры "4 в 1"
D18: ПРОГРАМНОЕ ОБЕСПЕЧЕНИЕ | I18: . . . . . . . . . . . . . . . . . . . . . . . . . . . . . . . . . . . . . . . . . . . . . . . . . . . . . . . . . . . . . . . | T18: 6
D19: IP КАМЕРЫ ЛИНЕЙКИ SOHO | H19: . . . . . . . . . . . . . . . . . . . . . . . . . . . . . . . . . . . . . . . . . . . . . . . . . . . . . . . . . . . . . . . | T19: 6
E20: Внутренние IP камеры
E21: Уличные (IP66) IP камеры
D22: ПРОЕКТНЫЕ IP КАМЕРЫ ЛИНЕЙКИ NOVICAM PRO | K22: . . . . . . . . . . . . . . . . . . . . . . . . . . . . . . . . . . . . . . . . . | T22: 7
E23: Внутренние IP камеры PRO
E24: Уличные (IP66) IP камеры PRO
E25: Купольные поворотные камеры PRO
C26: Видеорегистраторы | G26: . . . . . . . . . . . . . . . . . . . . . . . . . . . . . . . . . . . . . . . . . . . . . . . . | T26: 8
D27: РЕГИСТРАТОРЫ SOHO | H27: . . . . . . . . . . . . . . . . . . . . . . . . . . . . . . . . . . . . . . . . . . . . . . . . . . . . . . . . . . . . . . . | T27: 7
E28: Аналог+AHD+IP
E29: IP
D30: РЕГИСТРАТОРЫ PRO | G30: . . . . . . . . . . . . . . . . . . . . . . . . . . . . . . . . . . . . . . . . . . . . . . . . | T30: 8
E31: Аналог+TVI + AHD + IP
E32: IP
C33: Аксессуары, комплекты, хранение | J33: . . . . . . . . . . . . . . . . . . . . . . . . . . . . . . . . . . . . . . . . . | T33: 9
D34: АКСЕССУАРЫ | F34: . . . . . . . . . . . . . . . . . . . . . . . . . . . . . . . . . . . . . . . . . . . . . . . . . . . . . . . . . . . . . . . | T34: 9
E35: Кронштейны к купольным поворотным камерам
E36: Тестер
E37: Микрофоны
E38: 3G модем
E39: Муляжи видеокамер
E40: Монтажные коробки
D41: КОМПЛЕКТЫ ВИДЕОНАБЛЮДЕНИЯ | I41: . . . . . . . . . . . . . . . . . . . . . . . . . . . . . . . . . . . . . . . . . | T41: 9
...

Sheet Акции и спецпредложения
A1: 2
B2: Акции
C4: Видеокамеры | O4: цена c НДС, руб
C6: Матрица | D6: Люкс | E6: Разрешение | H6: Объектив | I6: Питание | J6: Особенности модели | O6: 208.8
B7: NOVICAM PRO NC44FP | C7: 1/2.8" 4.1 Mpix Progressive Scan CMOS | D7: 0.1 | E7: 4 Mp 2688x1520 15 к/с, 1080p (1920х1080) 25/30 к/с, 720p (1280x720) 25/30 к/с | H7: 2 мм | I7: 12 В DC 400 мА (ИК вкл) | J7: Компактный корпус, встроенный микрофон, динамик, 1 тревожный вх/вых, Wi-Fi, Micro SD до128-х Гб, питание PoE IEEE 802.3af, WDR | N7: 208.8 | O7: =ROUNDUP(N7*$A$1,2) -> 417.6
C8: IP видеокамера NC44FP комплектуются картой microSD 64 Гб | N8: 181.8 | O8: =ROUNDUP(N8*$A$1,2) -> 363.6
N10: 3.2 | O10: =ROUNDUP(N10*$A$1,2) -> 6.4
B11: Микрофон AM16 в подарок | C11: При покупке камер любой камеры с аудивходом N12W, N43W, N29W, N49W, NC28VP, NC29WP | N11: 0 | O11: =ROUNDUP(N11*$A$1,2) -> 0
C13: При покупке PM76 - 2 видекамеры А61 в подарок | O13: цена
M17: 146 | N17: 146 | O17: =ROUNDUP(N17*$A$1*1.5,1) -> 438
M18: 125 | N18: 125 | O18: =ROUNDUP(N18*$A$1*1.5,1) -> 375
C19: R

Sheet Analog+AHD
A1: ='Акции и спецпредложения'!$A$1 -> 2 | L1: цена
B2: АНАЛОГОВЫЕ ВИДЕОКАМЕРЫ РАЗРЕШЕНИЯ 650ТВЛ | M2: цена c НДС, руб
C3: Видеокамеры А61, А63W передают аналоговое изображение с разрешением 650 ТВЛ. В дневное время благодаря матрице 1/3" Pixel Plus NAVIGATOR II формируется качественное цветное изображение. В темное время суток включается ИК-подсветка. В черно-белом режиме убирается механический ИК-фильтр, что дает более четкое изображение и позволяет уменьшить количество шумов.
C4: Матрица | D4: Люкс | E4: Разрешение | F4: Объектив мм | G4: Угол диаг. | H4: ИК IR-cut | I4: Питание | J4: Кратность уп, шт | K4: Особенности модели
B5: NOVICAM A61 | C5: 1/3" Pixel Plus NAVIGATOR II CMOS | D5: 0.1 0 (ИК вкл) | E5: 650 | F5: 3.6 | G5: 84º | H5: 10м | I5: 12 В DC 240 мА (ИК вкл) | J5: 40 | K5: Внутреннее исполнение | L5: 10.5 | M5: =ROUNDUP(L5*$A$1,2) -> 21
B7: AHD КАМЕРЫ 720р и 1080p
A8: АHD | C8: AHD камеры сочетают в себе легкость и удобство использования аналоговых видеокамер и высокое разрешение цифровых. Технология AHD позволяет передавать устройствам видеосигнал на расстояние до 500 м и дает возможность модернизировать оборудование на объекте до HD и Full HD разрешения, использовав существующие коммуникации, без необходимости прокладки новых кабелей.
C9: Видеокамеры используют прогрессивный CMOS сенсор с разрешением до 1080p, что позволяет получить четкое и качественное изображение, причем картинка передается без задержек и потерь. В камерах реализована система шумоподавления 2D-DNR. В темное время суток выходной сигнал видеокамеры преобразуется в реальный Ч/Б сигнал, а также сдвигается цветовой светофильтр с матрицы CMOS и включается встроенная ИК подсветка. В сочетании с ИК коррекцией это позволяет минимизировать потери качества.
C10: Одной из ключевых особенностей является возможность устанавливать режим работы камер: аналоговый или AHD высокого разрешения (только для 1 Мп камер).
C11: Внутренние камеры AHD | M11: цена
C13: Матрица | D13: Люкс | E13: Разрешение | F13: Объектив мм | G13: Угол диаг. | H13: ИК IR-cut | I13: Питание | J13: Кратность уп, шт | K13: Особенности модели
B14: NOVICAM AC11 | C14: 1.0 Mpix CMOS 1/4" | D14: 0.01 0 (ИК вкл.) | E14: 720p 1280x720 25 к/с | F14: 3.6 | G14: 61º | H14: 10м | I14: 12 В DC 160 мА (ИК вкл) | J14: 40 | K14: Пластиковый корпус. Защита от переполюсовки Вращение купола на 360 градусов уже после монтажа | L14: 20.22 | M14: =ROUND(L14*$A$1,1) -> 40.4
B15: NOVICAM AC21 | C15: 2.1 Mpix CMOS 1/2.7" | E15: 1080p 1920х1080 25 к/с | G15: 90º | H15: 20м | I15: 12 В DC 210 мА (ИК вкл) | J15: 24 | K15: Пластиковый корпус, управление UTC | L15: 24.22 | M15: =ROUND(L15*$A$1,1) -> 48.4
B17: NOVICAM AC17 | C17: 1.0 Mpix CMOS 1/4" | D17: 0.01 0 (ИК вкл.) | E17: 720p 1280x720 25 к/с | F17: 2.8~12 | G17: 82°~21° | H17: 20м | I17: 12 В DC 210 мА (ИК вкл) | J17: 12 | K17: Вариофокальный объектив, пластиковый корпус, аналоговый режим | L17: 41.6 | M17: =ROUNDUP(L17*$A$1,2) -> 83.2
B18: NOVICAM AC27 | C18: 2.1 Mpix CMOS 1/2.7" | E18: 1080p 1920х1080 25 к/с | G18: 115°~35° | I18: 12 В DC 220 мА (ИК вкл) | K18: Вариофокальный объектив, пластиковый корпус | L18: 56.5 | M18: =ROUNDUP(L18*$A$1,2) -> 113
C20: Уличные камеры AHD - класс пыле-влагозащиты IP66 | M20: цена
C22: Матрица | D22: Люкс | E22: формат | F22: Объектив мм | G22: Угол диаг. | H22: ИК IR-cut | I22: Питание | J22: Кратность уп, шт | K22: Особенности модели
B23: NOVICAM AC12W | C23: 1.0 Mpix CMOS 1/4" | D23: 0.01 0 (ИК вкл.) | E23: 720p 1280x720 25 к/с | F23: 3.6 | G23: 61º | H23: 20м | I23: 12 В DC 190 мА (ИК вкл) | J23: 24 | K23: Металлический корпус | L23: 25.2 | M23: =ROUNDUP(L23*$A$1,2) -> 50.4
B24: NOVICAM AC22W | C24: 2.1 Mpix CMOS 1/2.7" | E24: 1080p 1920х1080 25 к/с | G24: 90º | I24: 12 В DC 210 мА (ИК вкл) | K24: Металлический корпус | L24: 27.36 | M24: =ROUNDUP(L24*$A$1,1) -> 54.8
B26: NOVICAM AC13W | C26: 1.0 Mpix CMOS 1/4" | D26: 0.01 0 (ИК вкл.) | E26: 720p 1280x720 25 к/с | F26: 2.8 | G26: 82º | H26: 20м | I26: 12 В DC 200 мА (ИК вкл) | J26: 40 | K26: Металлический корпус | L26: 25.4 | M26: =ROUNDUP(L26*$A$1,2) -> 50.8
B28: NOVICAM AC23W | C28: 2.1 Mpix CMOS 1/2.7" | D28: 0.01 0 (ИК вкл.) | E28: 1080p 1920х1080 25 к/с | F28: 3.6 | G28: 90º | H28: 20м | I28: 12 В DC 220 мА (ИК вкл) | J28: 40 | K28: Пластиковый корпус, управление UTC | L28: 26.54 | M28: =ROUNDUP(L28*$A$1,1) -> 53.1
B30: NOVICAM AC18W | C30: 1.0 Mpix CMOS 1/4" | D30: 0.01 0 (ИК вкл.) | E30: 720p 1280x720 25 к/с | F30: 2.8~12 | G30: 82°~21° | H30: 35м | I30: 12 В DC 270 мА (ИК вкл) | J30: 12 | K30: Вариофокальный объектив, металлический корпус, аналоговый режим | L30: 50 | M30: =ROUNDUP(L30*$A$1,2) -> 100
B31: NOVICAM AC28W | C31: 2.1 Mpix CMOS 1/2.7" | E31: 1080p 1920х1080 25 к/с | G31: 115°~35° | I31: 12 В DC 230 мА (ИК вкл) | K31: Вариофокальный объектив, металлический корпус | L31: 63.8 | M31: =ROUNDUP(L31*$A$1,2) -> 127.6
B33: NOVICAM AC19W | C33: 1.0 Mpix CMOS 1/4" | D33: 0.01 0 (ИК вкл.) | E33: 720p 1280x720 25 к/с | F33: 2.8~12 | G33: 82°~21° | H33: 25м | I33: 12 В DC 370 мА (ИК вкл) | J33: 24 | K33: Вариофокальный объектив, пластиковый корпус, аналоговый режим | L33: 43.2 | M33: =ROUNDUP(L33*$A$1,2) -> 86.4
B34: NOVICAM AC29W | C34: 2.1 Mpix CMOS 1/2.7" | E34: 1080p 1920х1080 25 к/с | G34: 115°~35° | I34: 12 В DC 230 мА (ИК вкл) | K34: Вариофокальный объектив, пластиковый корпус, управление UTC | L34: 51.2 | M34: =ROUNDUP(L34*$A$1,2) -> 102.4
B36: NOVICAM AC19WX | C36: 1.0 Mpix CMOS 1/4" | D36: 0.01 0 (ИК вкл.) | E36: 720p 1280x720 25 к/с | F36: 2.8~12 | G36: 82°~21° | H36: 50м | I36: 12 В DC 680 мА (ИК вкл) | J36: 8 | K36: Вариофокальный объектив, металлический корпус, аналоговый режим | L36: 59 | M36: =ROUNDUP(L36*$A$1,2) -> 118
B37: NOVICAM AC29WX | C37: 2.1 Mpix CMOS 1/2.7" | E37: 1080p 1920х1080 25 к/с | G37: 115°~35° | I37: 12 В DC 230 мА (ИК вкл) | K37: Вариофокальный объектив, металлический корпус | L37: 71.4 | M37: =ROUNDUP(L37*$A$1,2) -> 142.8

Sheet HD-TVI и 4в1
A1: ='Акции и спецпредложения'!$A$1 -> 2
B2: HD-TVI КАМЕРЫ
C3: HD-TVI камеры сочетают в себе легкость и удобство использования аналоговых видеокамер и высокое разрешение цифровых. Технология AHD-TVI позволяет передавать видеосигнал на расстояние до 500 м и дает возможность модернизировать оборудование на объекте до HD и Full HD разрешения, использовав существующие коммуникации, без необходимости прокладки новых кабелей .
A4: TVI | C4: Видеокамеры используют прогрессивный CMOS сенсор с HD разрешением, что позволяет получить четкое и качественное изображение, причем картинка передается без задержек и потерь. В камерах реализована система шумоподавления 2D-DNR. В темное время суток выходной сигнал видеокамеры преобразуется в реальный Ч/Б сигнал, а также сдвигается цветовой светофильтр с матрицы CMOS и включается встроенная ИК подсветка. В сочетании с ИК коррекцией это позволяет минимизировать потери качества.
C5: Одной из ключевых особенностей является возможность устанавливать режим работы камер: аналоговый или TVI высокого разрешения (только для 1 Мп камер и TC27).
C6: Внутренние камеры HD-TVI | M6: цена c НДС, руб
C8: Матрица | D8: Люкс | E8: Разрешение | F8: Объектив мм | G8: Угол диаг. | H8: ИК IR-cut | I8: Питание | J8: Кратность уп, шт | K8: Особенности модели
B9: NOVICAM PRO TC10 | C9: 1.3 Mpix CMOS 1/4" | D9: 0.01 0,001 ч/б | E9: 720p 1280x720 25 к/с | F9: 2.8 | G9: 82º | H9: - | I9: 12 В DC 250 мА (ИК выкл) | J9: 36 | K9: Пластиковый корпус, отсутствие ИК подстветки | L9: 10.6 | M9: =ROUNDUP(19.9*$A$1,2) -> 39.8
B10: NOVICAM PRO TC11 | D10: 0.01 0 (ИК вкл. | H10: 20м | I10: 12 В DC 300 мА (ИК вкл) | K10: Пластиковый корпус, аналоговый режим | L10: 22.4 | M10: =ROUNDUP(L10*$A$1,2) -> 44.8
B12: NOVICAM PRO TC27 | C12: 2.1 Mpix CMOS 1/2.7" | D12: 0.01 0 (ИК вкл.) | E12: 1080p 1920х1080 25/30 к/с | F12: 2.8~12 | G12: 115°~35° | H12: 30м | I12: 12 В DC 250 мА (ИК вкл) | J12: 18 | K12: Компенсация задней подстветки BLC, Управление UTC, вариофокальный объектив, пластиковый корпус, аналоговый режим | L12: 84.6 | M12: =ROUNDUP(L12*$A$1,2) -> 169.2
C14: Уличные камеры HD-TVI - класс пыле-влагозащиты IP66 | M14: цена
C16: Матрица | D16: Люкс | E16: Разрешение | F16: Объектив мм | G16: Угол диаг. | H16: ИК IR-cut | I16: Питание | J16: Кратность уп, шт | K16: Особенности модели
B17: NOVICAM PRO TC12W | C17: 1.3 Mpix CMOS 1/4" | D17: 0.01 0 (ИК вкл.) | E17: 720p 1280x720 25 к/с | F17: 2.8 | G17: 82º | H17: 20м | I17: 12 В DC 310 мА (ИК вкл) | J17: 36 | K17: Гибридный корпус, аналоговый режим | L17: 30,4 | M17: =ROUNDUP(L17*$A$1,2) -> 60.8
B18: NOVICAM PRO TC22W | C18: 2.1 Mpix CMOS 1/3" | E18: 1080p 1920х1080 25 к/с | G18: 102º | I18: 12 В DC 250 мА (ИК вкл) | K18: Металлический корпус | L18: 46.5 | M18: =ROUNDUP(L18*$A$1,2) -> 93
B20: NOVICAM PRO TC18W | C20: 1.3 Mpix CMOS 1/4" | D20: 0.01 0 (ИК вкл.) | E20: 720p 1280x720 25 к/с | F20: 2.8~12 | G20: 82°~21° | H20: 35м | I20: 12 В DC 370 мА (ИК вкл) | J20: 18 | K20: Вариофокальный объектив, металлический корпус, аналоговый режим | L20: 64.6 | M20: =ROUNDUP(L20*$A$1,2) -> 129.2
B21: NOVICAM PRO TC28W | C21: 2.1 Mpix CMOS 1/2.7" | E21: 1080p 1920х1080 25 к/с | G21: 115°~35° | I21: 12 В DC 330 мА (ИК вкл) | K21: Вариофокальный объектив, металлический корпус | L21: 96.9 | M21: =ROUNDUP(L21*$A$1,2) -> 193.8
B23: NOVICAM PRO TC19W | C23: 1.3 Mpix CMOS 1/4" | D23: 0.01 0 (ИК вкл.) | E23: 720p 1280x720 25 к/с | F23: 2.8~12 | G23: 82°~21° | H23: 35м | I23: 12 В DC 370 мА (ИК вкл) | J23: 12 | K23: Вариофокальный объектив, металлический корпус ,аналоговый режим | L23: 61.5 | M23: =ROUNDUP(L23*$A$1,2) -> 123
B24: NOVICAM PRO TC29W | C24: 2.1 Mpix CMOS 1/2.7" | E24: 1080p 1920х1080 25 к/с | G24: 115°~35° | I24: 12 В DC 330 мА (ИК вкл) | K24: Вариофокальный объектив, металлический корпус | L24: 96.9 | M24: =ROUNDUP(L24*$A$1,2) -> 193.8
B25: NOVICAM PRO TSC29W | C25: 2.1 Mpix CMOS 1/2.7" | D25: 0.001 | E25: 1080p 1920х1080 25 к/с | K25: TVI Starlihht видеокамера, моторизитрованный зум с автофокусом | L25: 139 | M25: =ROUNDUP(L25*$A$1,2) -> 278
B28: NOVICAM PRO T29W | C28: 2.1 Mpix Panasonic CMOS 1/3" | D28: 0.01 0 (ИК вкл.) | E28: 1080p 1920х1080 25 к/с | F28: 2.8~12 | G28: 102°~28° | H28: 50м | I28: 12 В DC 580 мА (ИК вкл) | J28: 9 | K28: UTC, WDR, BLC, интеллектуальный зум, 3D-DNR, выриофокальный объектив. | L28: 181.6 | M28: =ROUNDUP(L28*$A$1,2) -> 363.2
B30: NOVICAM PRO TP123 | C30: 1.3 Mpix CMOS 1/3" | D30: 0.05 Люкс цвет/ 0 Люкс (ИК вкл.) | E30: 720p 1280x720 25 к/с | F30: 4~92 | G30: 57,58° ~ 3.12° | H30: 100м | I30: 12 В DC 1500 мА (ИК вкл) | J30: 4 | K30: Скоростная поворотная камера, Вариофокальный объектив, пластиковый корпус, встроенная система грозозащиты и перепада напряжения, система охлаждения,UTC, WDR. BLC. IP66. Управление камерой с TVI видеорегистратора через кабель видеосигнала | L30: 447.8 | M30: =ROUNDUP(L30*$A$1,2) -> 895.6
B31: NOVICAM PRO TP215 | C31: 1/3" 2.1 Mpix Прогрессивная CMOS | D31: 0.005 люкс (цвет), 0 люкс (ИК вкл.) | E31: 1080p | F31: 4~60 | G31: 61.4°~3.9° | L31: 446 | M31: =ROUNDUP(L31*$A$1,2) -> 892
B32: NOVICAM PRO TP223 | C32: 2.1 Mpix CMOS 1/3" | D32: 0.05 Люкс цвет/ 0 Люкс (ИК вкл.) | E32: 1080p 1920х1080 25 к/с | F32: 4~92 | G32: 57,58° ~ 3.12° | L32: 511.8 | M32: =ROUNDUP(L32*$A$1,2) -> 1023.6
C34: HD-TVI камеры 3мп | M34: цена
C36: Матрица | D36: Люкс | E36: Разрешение | F36: Объектив мм | G36: Угол диаг. | H36: ИК IR-cut | I36: Питание | J36: Кратность уп, шт | K36: Особенности модели
B37: NOVICAM PRO TC32W | C37: 3 Mpix CMOS 1/3" | D37: 0.01 0 (ИК вкл.) | E37: 3 Mp 1920x1536 18 к/с 1920x1080 25/30 к/с | F37: 2.8 | G37: 102° | H37: 20м | I37: 12 В DC 420 мА (ИК вкл) | J37: 36 | K37: Вандалозащищенная, уличная, UTC меню, BLC, шумоподавление DNR, металлический корпус | L37: 53.4 | M37: =ROUNDUP(L37*$A$1,2) -> 106.8
B39: NOVICAM PRO TC33W | C39: 3 Mpix CMOS 1/3" | D39: 0.01 0 (ИК вкл.) | E39: 3 Mp 1920x1536 18 к/с 1920x1080 25/30 к/с | F39: 2.8 | G39: 102° | H39: 20м | I39: 12 В DC 420 мА (ИК вкл) | J39: 36 | K39: Уличная, UTC меню, BLC, шумоподавление DNR, металлический корпус. | L39: 53.4 | M39: =ROUNDUP(L39*$A$1,2) -> 106.8
B41: NOVICAM PRO T38W | C41: 3 Mpix CMOS 1/3" | D41: 0.01 0 (ИК вкл.) | E41: 3 Mp 1920x1536 18 к/с 1920x1080 25/30 к/с | F41: 2.8~12 | G41: 102°~28° | H41: 35м | I41: 12 В DC 500 мА (ИК вкл) | J41: 18 | K41: Вандалозащищенная, уличная, UTC меню, WDR, BLC, шумоподавление DNR, металлический корпус, вариофокальный объектив | L41: 162.18 | M41: =ROUNDUP(L41*$A$1,2) -> 324.36
B43: NOVICAM PRO T39W | C43: 3 Mpix CMOS 1/3" | D43: 0.01 0 (ИК вкл.) | E43: 3 Mp 1920x1536 18 к/с 1920x1080 25/30 к/с | F43: 2.8~12 | G43: 102°~28° | H43: 35м | I43: 12 В DC 750 мА (ИК вкл) | J43: 12 | K43: Уличная, UTC меню, WDR, BLC, шумоподавление DNR, металлический корпус, вариофокальный объектив | L43: 167.4 | M43: =ROUNDUP(L43*$A$1,2) -> 334.8
B45: МУЛЬТИФОРМАТНЫЕ КАМЕРЫ "4 В 1" (AHD/TVI/CVI/Аналог)
C46: "4 в 1" мультиформатные камеры могут работать в разных форматах: аналог, TVI, AHD, CVI с их технологическими преимуществами.
C47: Видеокамеры использует прогрессивный CMOS сенсор с HD разрешением до 1080p, что позволяет получить четкое и качественное изображение, причем картинка передается без задержек и потерь. В камерах реализована система шумоподавления 2D-DNR. В темное время суток выходной сигнал видеокамеры преобразуется в реальный Ч/Б сигнал, а также сдвигается цветовой светофильтр с матрицы CMOS и включается встроенная ИК подсветка. В сочетании с ИК коррекцией это позволяет минимизировать потери качества.
C48: Переключение режима формата работы видеокамеры осуществляется с помощью кнопки.
C49: Внутренние мультиформатные камеры "4 в 1" | M49: цена
C51: Матрица | D51: Люкс | E51: Разрешение | F51: Объектив мм | G51: Угол диаг. | H51: ИК IR-cut | I51: Питание | J51: Кратность уп, шт | K51: Особенности модели
B52: NOVICAM PRO FC11 NOVICAM PRO FC11 Black | C52: 1.3 Mpix CMOS 1/4" | D52: 0.01 0 (ИК вкл.) | E52: 720p 1280x720 25 к/с | F52: 2.8 | G52: 82º | H52: 20м | I52: 12 В DC 330 мА (ИК вкл) | J52: 36 | K52: Фиксированыный объектив, пластиковый корпус. Чёрный и белый варианты исполнения корпуса | L52: 22.4 | M52: =ROUNDUP(L52*$A$1,2) -> 44.8
B53: NOVICAM PRO FC21 | C53: 2.1 Mpix CMOS 1/2.7" | E53: 1080p 1920х1080 25 к/с | G53: 115º | K53: Фиксированный объектив, пластиковый корпус | L53: 35,4 | M53: =ROUNDUP(L53*$A$1,2) -> 70.8
B54: NOVICAM PRO FC27 | C54: 2.1 Mpix CMOS 1/2.7" | D54: 0.01 0 (ИК вкл.) | E54: 1080p 1920х1080 25 к/с | F54: 2.8~12 | G54: 115°~35° | H54: 20м | I54: 12 В DC 330 мА (ИК вкл) | J54: 18 | K54: BLC, HLC, UTC меню, вариофокальный объектив, пластиковый корпус | L54: 76.14 | M54: =ROUNDUP(L54*$A$1,2) -> 152.28
C56: Уличные мультиформатные камеры "4 в 1" - класс пыле-влагозащиты IP66 | M56: цена
C58: Матрица | D58: Люкс | E58: Разрешение | F58: Объектив мм | G58: Угол диаг. | H58: ИК IR-cut | I58: Питание | J58: Кратность уп, шт | K58: Особенности модели
...

Sheet IP Soho
A1: ='Акции и спецпредложения'!$A$1 -> 2
B2: ПРОГРАММНОЕ ОБЕСПЕЧЕНИЕ | Q2: цена c НДС, руб
G4: Лицензия ML Подходит для создания небольшой системы до 20 IP-камер. | P4: 309.6 | Q4: 1800
G5: Лицензия LS Версия-конструктор от 1 до 400 IP-камер. | Q5: 2800
G6: Лицензия ST от 1 до неограниченного количества IP-камер | Q6: 3500
G7: Ключ USB | Q7: 1400
B9: IP КАМЕРЫ ЛИНЕЙКИ SOHO
B10: IP видеокамеры NOVIcam созданы на основе новейших цифровых технологий. Данные технологии сочетают в себе высокое разрешение, неисчерпаемую масштабируемость систем, возможность подключения к камере через облако и позволяют передавать видеосигнал на неограниченное расстояние.
B11: Линейка SOHO IP видеокамер NOVIcam содержит технологичные изделия, отвечающие самым высоким требованиям потребителей. Простота настройки и доступ к камере из любой точки мира предоставляется бесплатным облачным сервисом NOVIcloud, а поддержка стандарта ONVIF обеспечит связь со всеми популярными IP видеорегистраторами и программным обеспечением.
B12: Видеокамеры используют прогрессивный CMOS сенсор с высоким разрешением, что позволяет получить четкое и качественное изображение. В камерах реализована система шумоподавления 2D-DNR. В темное время суток выходной сигнал видеокамеры преобразуется в реальный Ч/Б сигнал, а также сдвигается цветовой светофильтр с матрицы CMOS и включается встроенная ИК подсветка. В сочетании с ИК коррекцией это позволяет минимизировать потери качества.
C13: Внутренние IP камеры | Q13: цена
C15: Матрица | D15: Люкс | E15: Разрешение | F15: Объектив, мм | G15: Угол диаг. | H15: ИК IR-cut | I15: Питание | J15: Кратность уп, шт | K15: Особенности модели
B16: NOVICAM IP N27 | C16: 1/2.8” 2.1 Mpix SONY IMX222 CMOS | D16: 0.01 0 (ИК вкл) | E16: 1080p (1920х1080) 30 к/с, 720p (1280x720) 30 к/с, D1 (704x576) 30 к/с | F16: 2.8~12 | G16: 120º~34º | H16: 20м | I16: 12 В DC 350 мА (ИК вкл) | J16: 12 | K16: Вариофокальный объектив 2.8~12мм, сменный корпус для наружной или врезной установки | P16: 106.8 | Q16: =ROUNDUP(P16*$A$1,2) -> 213.6
B17: NOVICAM IP N37L | C17: 1/2.7" 3 Mpix CMOS SONY IMX323 | E17: 3Mpix (2048x1536) 15 к/с 1080p (1920х1080) 25/30 к/с 720p (1280x720) 25/30 к/с | K17: 3Мп 15 к/с.Купольная вандалозащищенная IP видеокамера. Корпус для врезного и накладного монтажа. | P17: 106.8 | Q17: =ROUNDUP(P17*$A$1,2) -> 213.6
C19: Уличные IP камеры - класс пыле-влагозащиты IP66 | Q19: цена
C21: Матрица | D21: Люкс | E21: Разрешение | F21: Объектив, мм | G21: Угол диаг. | H21: ИК IR-cut | I21: Питание | J21: Кратность уп, шт | K21: Особенности модели
B22: NOVICAM IP N11W | C22: 1/4" 1 Mpix CMOS H42 | D22: 0.01 люкс (цвет), 0 люкс (ИК вкл.) | E22: 720p (1280x720) 25/30 к/с D1 (704x576) 30 к/с | F22: 2.8 | G22: 82º | H22: 20м | I22: 12 В DC 300 мА (ИК вкл) | J22: 24 | K22: Металлический корпус | P22: 43.34 | Q22: =ROUNDUP(P22*$A$1,2) -> 86.68
B23: NOVICAM IP N12W + аудиовход | C23: 1/2.7" 2.1 Mpix CMOS | E23: 1080p (1920х1080) 15 к/с, 720p (1280x720) 30 к/с | F23: 3.6 | G23: 90º | I23: 12 В DC 320 мА (ИК вкл) | K23: Вандалозащищённая, металлический корпус. N12W и N22LW имеют аудиовход для подключения микрофона. | P23: 65 | Q23: =ROUNDUP(P23*$A$1,2) -> 130
B24: NOVICAM IP N22LW + аудиовход | C24: 1/2.7" 2.1 Mpix SmartSens CMOS SC2135 | P24: 65 | Q24: =ROUNDUP(P24*$A$1,2) -> 130
B25: NOVICAM IP N22W | C25: 1/2.7" 2.1 Mpix Aptina CMOS AR0237 | E25: 1080p (1920х1080) 30 к/с, 720p (1280x720) 30 к/с | P25: 80 | Q25: =ROUNDUP(P25*$A$1,2) -> 160
B26: NOVICAM IP N32LW | C26: 1/2.7" 3 Mpix SONY IMX323 | E26: 3Mpix (2048x1536) 15 к/с 1080p (1920х1080) 25/30 к/с 720p (1280x720) 25/30 к/с | K26: Всепогодная, металлический корпус | P26: 80 | Q26: =ROUNDUP(P26*$A$1,2) -> 160
B27: NOVICAM IP N52VP | C27: 1/2.5" 5 Mpix Progressive Scan CMOS | E27: 5 Mpix (2592x1944) 25/30 к/с 4 Mpix (2560x1440) 25/30 к/с 1080p (1920x1080) 50/60 к/с 720p (1280x720) 25/30 к/с | F27: 3.6 | G27: 98° | I27: DC 12В±10% 0.5А (ИК вкл.), 6Вт (2 класс PoE) PoE IEEE 802.3af | K27: Купольная IP камера 5 Mpix 30 к/с. Широкий динамический диапазон (WDR). 3D вращение камеры в корпусе. Поддержка трёх потоков. Режим отображения 1080p 50/60 к/с. Поддержка ONVIF. Поддержка технологии PoE | P27: 168.8 | Q27: =ROUNDUP(P27*$A$1,2) -> 337.6
B28: NOVICAM N82VP | C28: 1/2.5” 8 Mpix матрица Progressive Scan CMOS | E28: 8 Mpix (3840x2160) 25/30 к/с 4 Mpix (2560x1440) 25/30 к/с 1080p (1920x1080) 50/60 к/с 720p (1280x720) 25/30 к/с | F28: 3.6 | G28: 101° | I28: DC 12В±10% 0.5А (ИК вкл.), 6Вт (2 класс PoE) PoE IEEE 802.3af | K28: Купольная IP камера 8 Mpix 30 к/с. 3D вращение камеры в корпусе. Поддержка трёх потоков. Режим отображения 1080p 50/60 к/с. Поддержка ONVIF. Поддержка технологии PoE | P28: 326.8 | Q28: =ROUNDUP(P28*$A$1,2) -> 653.6
B30: NOVICAM IP N13W | C30: 1/4" 1 Mpix CMOS Omnivision OV9712 | D30: 0.01 люкс (цвет), 0 люкс (ИК вкл.) | E30: 720p (1280x720) 25/30 к/с, D1 (704x576) 30 к/с | F30: 2.8 | G30: 82º | H30: 20м | I30: 12 В DC 500 мА (ИК вкл) | J30: 40 | K30: Всепогодная, металлический корпус | P30: 54.84 | Q30: =ROUNDUP(P30*$A$1,2) -> 109.68
B31: NOVICAM IP N23LW | C31: 1/2.7" 2.1 Mpix SmartSens CMOS SC2235 | E31: 1080p (1920х1080) 15 к/с, 720p (1280x720) 30 к/с | F31: 3.6 | G31: 90º | I31: 12 В DC 310 мА (ИК вкл) | P31: 63 | Q31: =ROUNDUP(P31*$A$1,2) -> 126
B32: NOVICAM IP N23W | C32: 1/2.7" 2.1 Mpix Aptina CMOS AR0237 | E32: 1080p (1920х1080) 30 к/с, 960p (1280x960) 25/30 к/с 720p (1280x720) 30 к/с | P32: 80 | Q32: =ROUNDUP(P32*$A$1,2) -> 160
B33: NOVICAM IP N33LW | C33: 1/2.7" 3 Mpix CMOS SONY IMX323 | E33: 3Mpix (2048x1536) 15 к/с 1080p (1920х1080) 25/30 к/с 720p (1280x720) 25/30 к/с | G33: 84º | P33: 80 | Q33: =ROUNDUP(P33*$A$1,2) -> 160
B34: NOVICAM IP N43W | C34: 1/3" 4 Mpix Omnivision CMOS OV4689 | E34: 4 Mp 2592x1944 25 к/с, 2048x1536 22 к/с 1080p (1920х1080) 30 к/с, 720p (1280x720) 30 к/с | G34: 86º | I34: 12 В DC 250 мА (ИК вкл) | P34: 116.5 | Q34: =ROUNDUP(P34*$A$1,2) -> 233
B35: NOVICAM N53WP | C35: 1/2.5” 5 Mpix матрица Progressive Scan CMOS | D35: 0.01 люкс (цвет), 0 люкс (ИК вкл.) | E35: 5 Mpix (2592x1944) 25/30 к/с 4 Mpix (2560x1440) 25/30 к/с 1080p (1920x1080) 50/60 к/с 720p (1280x720) 25/30 к/с | F35: 3.6 | G35: 98º | H35: 30 м | I35: DC 12В±10% 0.67А (ИК вкл.), 8Вт (3 класс PoE) PoE IEEE 802.3af | K35: Цилиндрическая IP камера 5 Mpix 30 к/с. Механический ИК фильтр. WDR. Поддержка трёх потоков. Режим отображения 1080p 50/60 к/с. Поддержка ONVIF Поддержка технологии PoE | P35: 168.8 | Q35: =ROUNDUP(P35*$A$1,2) -> 337.6
B36: NOVICAM N83WP | C36: 1/2.5” 8 Mpix матрица Progressive Scan CMOS | E36: 8 Mpix (3840x2160) 25/30 к/с 4 Mpix (2560x1440) 25/30 к/с 1080p (1920x1080) 50/60 к/с 720p (1280x720) 25/30 к/с | G36: 101º | K36: Цилиндрическая IP камера 8 Mpix 30 к/с. Поддержка трёх потоков. Режим отображения 1080p 50/60 к/с. Поддержка ONVIF. Поддержка технологии PoE | P36: 326.8 | Q36: =ROUNDUP(P36*$A$1,2) -> 653.6
B38: NOVICAM IP N28LW | C38: 1/2.7" 2.1 Mpix SmartSens CMOS SC2235 | D38: 0.01 люкс (цвет), 0 люкс (ИК вкл.) | E38: 1080p (1920х1080) 15 к/с, 720p (1280x720) 30 к/с | F38: 2.8~12 | G38: 120º~34º | H38: 40м | I38: 12 В DC 350 мА (ИК вкл) | J38: 12 | K38: Вандалозащищённая, металлический корпус. | P38: 78.8 | Q38: =ROUNDUP(P38*$A$1,2) -> 157.6
B39: NOVICAM IP N28W | C39: 1/2.7" 2.1 Mpix Sony CMOS IMX323 | E39: 1080p (1920х1080) 30 к/с, 960p (1280x960) 25/30 к/с 720p (1280x720) 30 к/с | P39: 123.34 | Q39: =ROUNDUP(P39*$A$1,2) -> 246.68
B40: NOVICAM IP N38LW | C40: 1/2.7" 3 Mpix SONY IMX323 | E40: 3Mpix (2048x1536) 15 к/с 1080p (1920х1080) 25/30 к/с 720p (1280x720) 25/30 к/с | P40: 123.34 | Q40: =ROUNDUP(P40*$A$1,2) -> 246.68
B41: NOVICAM N58VP | C41: 1/2.5” 5 Mpix матрица Progressive Scan CMOS | E41: 5 Mpix (2688x1944) 25/30 к/с, 4 Mpix (2560x1440) 25/30 к/с, 1080p (1920x1080) 25/30/50/60 к/с, 720p (1280х720) 25/30 к/с | G41: 117-27° | H41: 35м | I41: DC 12В±10% 0.67А (ИК вкл.), 8Вт (3 класс PoE) PoE IEEE 802.3af | K41: Купольная IP камера 5 Mpix 30 к/с. механический ИК фильтр. Широкий динамический диапазон (WDR). 3D вращение камеры в корпусе. Поддержка трёх потоков. Режим отображения 1080p 50/60 к/с Поддержка ONVIF. Поддержка технологии PoE | P41: 292 | Q41: =ROUNDUP(P41*$A$1,2) -> 584
B42: NOVICAM N88VP | C42: 1/2.5” 8 Mpix матрица Progressive Scan CMOS | E42: 8 Mpix (3840x2160) 25/30 к/с 4 Mpix (2560x1440) 25/30 к/с 1080p (1920x1080) 50/60 к/с 720p (1280x720) 25/30 к/с | G42: 120°-28° | I42: DC 12В±10% 0.75А (ИК вкл.), 9Вт (3 класс PoE) PoE IEEE 802.3af | K42: Купольная IP камера 8 Mpix 30 к/с. 3D вращение камеры в корпусе. Поддержка трёх потоков. Режим отображения 1080p 50/60 к/с. Поддержка ONVIF. Поддержка технологии PoE | P42: 502.5 | Q42: =ROUNDUP(P42*$A$1,2) -> 1005
B44: NOVICAM IP N29W | C44: 1/2.7" 2.1 Mpix CMOS | D44: 0.01 0 (ИК вкл) | E44: 1080p (1920х1080) 30 к/с, 960p (1280x960) 25/30 к/с 720p (1280x720) 30 к/с | F44: 2.8~12 | G44: 120º~34º | H44: 35м IR-cut | I44: 12 В DC 500 мА (ИК вкл) | K44: Трансфокаторный объектив, регулировка фокуса может производиться удаленно. Аудиовход. | P44: 158.34 | Q44: =ROUNDUP(P44*$A$1,2) -> 316.68
B46: NOVICAM IP N19WX | C46: 1/4" 1 Mpix CMOS Omnivision OV9712 | D46: 0.01 0 (ИК вкл) | E46: 720p (1280x720) 30 к/с, D1 (704x576) 30 к/с | F46: 2.8~12 | G46: 82º~21º | H46: 50м EXIR | I46: 12 В DC 500 мА (ИК вкл) | J46: 8 | K46: Всепогодная, металлический корпус, EXIR подсветка | P46: 88.4 | Q46: =ROUNDUP(P46*$A$1,2) -> 176.8
B47: NOVICAM IP N29LWX | C47: 1/2.7" 2.1 Mpix SOI CMOS F22 | E47: 1080p (1920х1080) 15 к/с, 720p (1280x720) 30 к/с | G47: 120º~34º | I47: 12 В DC 830 мА (ИК вкл) | P47: 88.4 | Q47: =ROUNDUP(P47*$A$1,2) -> 176.8
B48: NOVICAM IP N29WX | C48: 1/2.7" 2.1 Mpix CMOS | E48: 1080p (1920х1080) 30 к/с, 960p (1280x960) 25/30 к/с 720p (1280x720) 30 к/с | P48: 130 | Q48: =ROUNDUP(P48*$A$1,2) -> 260
B49: NOVICAM IP N39LWX | C49: 1/2.7" 3 Mpix SONY IMX323 | E49: 3Mpix (2048x1536) 15 к/с 1080p (1920х1080) 25/30 к/с 720p (1280x720) 25/30 к/с | P49: 130 | Q49: =ROUNDUP(P49*$A$1,2) -> 260
...

Sheet IP Pro
A1: ='Акции и спецпредложения'!$A$1 -> 2
B2: ПРОЕКТНЫЕ IP КАМЕРЫ ЛИНЕЙКИ NOVICAM PRO
B3: IP видеокамеры NOVIcam PRO созданы на основе новейших цифровых технологий. Данные технологии сочетают в себе высокое разрешение, неисчерпаемую масштабируемость систем, возможность подключения к камере через облако и позволяют передавать видеосигнал на неограниченное расстояние.
B4: Линейка проектных видеокамер NOVIcam PRO содержит высокотехнологичные изделия, отвечающие самым высоким требованиям заказчиков. Поддержка технологии технологии РоЕ позволяет использовать один кабель для передачи питания и данных. Простота настройки и доступ к камере из любой точки мира предоставляется бесплатным облачным сервисом P2P, а поддержка стандарта ONVIF обеспечит связь со всеми популярными IP видеорегистраторами и программным обеспечением.
A5: Браузер IE CMS: iVMS 4.1 Моб.: iVMS 4.5 | B5: Видеокамеры используют прогрессивный CMOS сенсор высокого разрешения, что позволяет получить четкое и качественное изображение. В камерах реализована система шумоподавления 3D-DNR. В темное время суток выходной сигнал видеокамеры преобразуется в реальный Ч/Б сигнал, а также сдвигается цветовой светофильтр с матрицы CMOS и включается встроенная ИК подсветка. В сочетании с ИК коррекцией это позволяет минимизировать потери качества.
C6: Внутренние IP камеры PRO | Q6: цена c НДС, руб
C8: Матрица | D8: Люкс | E8: Разрешение | F8: Объектив мм | G8: Угол диаг. | H8: ИК IR-cut | I8: Питание | J8: Кратность уп, шт | K8: Особенности модели
B9: NOVICAM PRO IP NC24P | C9: 1/2.8" 2.1 Mpix SONY Progressive Scan CMOS | D9: 0.01 0.001 Люкс (ч/б) | E9: 1080p 1920х1080 25/30 к/с 960p (1280x960) 25/30 к/с 720p (1280x720) 30 к/с | F9: - | G9: - | H9: 10м | I9: 12 В DC 750 мА (ИК вкл) | J9: 12 | K9: Классический корпус, аудио вход и выход, 1 тревожный вх/вых, механический ИК-фильтр, Micro SD до 128 Гб, PoE IEEE 802.3af | P9: 246.6 | Q9: =ROUNDUP(P9*$A$1,2) -> 493.2
B10: КРОНШТЕЙН CH102 | C10: Кронштейн для крепления на стену корпусной камеры | P10: 14.3 | Q10: =ROUNDUP(P10*$A$1,2) -> 28.6
B11: ОБЪЕКТИВЫ | C11: TAMRON 13VG550ASII | E11: CS | F11: 5~50 | G11: 1/3" (53,6º~5,6º) 1/4" (40,3º~4,2º) | K11: Вариофокальный объектив с асферическими линзами. Автодиафрагма DC. Крепление CS | Q11: =ROUNDUP(97.1*$A$1,2) -> 194.2
C12: TAMRON M13VG550 | E12: 1.3 Mp | F12: 5~50 | Q12: =ROUNDUP(132.4*$A$1,2) -> 264.8
C13: TAMRON M13VG550IR | E13: 2 Mp | F13: 5~50 | G13: 1/3" (100,1º~35,8º) 1/2.8", 1/2.7", 1/2.5" | Q13: =ROUNDUP(151.8*$A$1,2) -> 303.6
C14: TAMRON M13VG288IR | E14: 3 Mp | F14: 2.8~8 | Q14: =ROUNDUP(137.7*$A$1,2) -> 275.4
B16: NOVICAM PRO IP NC14F | C16: 1/4" 1.3 Mpix Aptina Progressive Scan CMOS | D16: 0.01 0 (ИК вкл) | E16: 720p 1280x720 25/30 к/с | F16: 2.8 | G16: 111º | H16: 10м | I16: 5 В DC 90 мА (ИК вкл) | K16: Компактный корпус, питание от Micro USB, встроенный микрофон, динамик, Wi-Fi, Micro SD до 128-х Гб. | P16: 73.4 | Q16: =ROUNDUP(P16*$A$1,2) -> 146.8
C18: Комплектация | E18: Разрешение | F18: Оптика | I18: Питание | K18: Особенности модели
B19: NOVIcam PRO NC16P-1L | C19: 1. Блок обработки видеосигнала - 1 шт. 2. Крепление - 1 шт. 3. Настенная пластина для крепления - 1шт. 4. Крепёжный комплект - 1 шт. 5. Руководство пользователя - 1 шт. | E19: 960р 25/30 к/с | F19: Без объектива. 1 выносной объектив | I19: DC 12В±10% 0.55А, 6.5Вт (3 класс PoE) | K19: Компактная внутренняя IP видеокамера 960p (видеомодули приобретаются отдельно). WDR 120 Дб. Слот дляMicro SD (до 64 Гб) | P19: 300 | Q19: =ROUNDUP(P19*$A$1,2) -> 600
B20: NOVIcam PRO NC16P-2L | F20: Без объектива. 2 выносных объектива | P20: 311.4 | Q20: =ROUNDUP(P20*$A$1,2) -> 622.8
B22: NOVICAM PRO IP NC24FP | C22: 1/2.8" 2 Mpix Progressive Scan CMOS | D22: 0.01 0 (ИК вкл) | E22: 1080p (1920х1080) 25/30 к/с, 720p (1280x720) 25/30 к/с | F22: 2.8 | G22: 120º | H22: 10м | I22: 12 В DC 400 мА (ИК вкл) | J22: 30 | K22: Компактный корпус, встроенный микрофон, динамик, 1 тревожный вх/вых, Wi-Fi, Micro SD до128-х Гб, питание PoE IEEE 802.3af | P22: 119.3 | Q22: =ROUNDUP(P22*$A$1,2) -> 238.6
B23: NOVICAM PRO IP NC34FP | C23: 1/3" 3.0 Mpix Progressive Scan CMOS | D23: 0.01 люкс (цвет), 0 люкс (ИК вкл.) | E23: 3.0 Mpix (2304x1296) 20 к/с, 1080p (1920x1080) 25/30 к/с, 720p (1280х720) 25/30 к/с | F23: 2.8 | G23: 120º | P23: 148 | Q23: =ROUNDUP(P23*$A$1,2) -> 296
B24: NOVICAM PRO IP NC44FP | C24: 1/2.8" 4.1 Mpix Progressive Scan CMOS | D24: 0.01 0 (ИК вкл) | E24: 4 Mp 2688x1520 15 к/с, 1080p (1920х1080) 25/30 к/с, 720p (1280x720) 25/30 к/с | F24: 2.0 | G24: 140º | K24: PoE, WiFi, встроенный микрофон, встроенный динамик. WDR. Слот Micro SD (до 128 ГБ) | P24: 181.8 | Q24: =ROUNDUP(P24*$A$1,2) -> 363.6
B26: NOVICAM IP NP200F | C26: 1/2.8” 2.1 Mpix CMOS | D26: 0.01 0 (ИК вкл) | E26: 1080p 1920х1080 25/30 к/с | F26: 2.8 | G26: 106º | H26: 10м | I26: 5 В DC 1,4 А (ИК и поворотный мех. вкл) | J26: 12 | K26: Поворотный механизм, Wi-Fi, поддержка Micro SD до 128 Гб | P26: 119.2 | Q26: =ROUNDUP(P26*$A$1,2) -> 238.4
B28: NOVICAM PRO IP NC45P | C28: 1/2.8" 4 Mpix Progressive Scan CMOS | D28: 0.01 | E28: 4 Mp 2688x1520 15 к/с, 1080p (1920х1080) 25/30 к/с, 720p (1280x720) 25/30 к/с | F28: 1.6 | G28: 186º | H28: - | I28: 12 В DC 400 мА (ИК вкл) | J28: 30 | K28: Камера "рыбий глаз" , Micro SD до 128-х Гб, питание PoE IEEE 802.3af | P28: 309 | Q28: =ROUNDUP(P28*$A$1,2) -> 618
B29: NOVICAM PRO IP NC55P | C29: 1/2.5" 5 Mpix Progressive Scan CMOS | E29: 5 Mpix (2560x1920) 25/30 к/с 3 Mpix (2048x1536) 25/30 к/с 960p (1280х960) 25/30 к/с | F29: 1.05 | G29: 254.5 | H29: 8м | I29: DC 12В±10% 0.54А (ИК вкл.), 6.7Вт (3 класс PoE) | J29: 30 | K29: Внутренняя Fisheye IP видеокамера 5 Mpix с мегапиксельным объективом. Поддержка карт памяти MicroSD до 128 Гб. Интеллектуальные функции (обнаружение вторжения/пересечение линии) | P29: 384.4 | Q29: =ROUNDUP(P29*$A$1,2) -> 768.8
C31: Уличные IP камеры PRO - класс пыле-влагозащиты IP66 | Q31: цена
C33: Матрица | D33: Люкс | E33: Разрешение | F33: Объектив мм | G33: Угол диаг. | H33: ИК IR-cut | I33: Питание | J33: Кратность уп, шт | K33: Особенности модели
B34: NOVICAM PRO IP NC13WP | C34: 1/3" 1.3 Mpix Progressive Scan CMOS | D34: 0.01 0 (ИК вкл) | E34: 960p (1280x960) 25/30 к/с | F34: 4 | G34: 80º | H34: 30м | I34: 12 В DC 420 мА (ИК вкл) | J34: 30 | K34: Механический ИК-фильтр, питание PoE IEEE 802.3af. IP66. Слот для micro-SD (до 128 Гб). | P34: 80.9 | Q34: =ROUNDUP(P34*$A$1,2) -> 161.8
B35: NOVICAM PRO IP NC23WFP | C35: 1/2.8" 2.1 Mpix Progressive Scan CMOS | E35: 1080p (1920x1080p) 25/30к/с 960p (1280x960p) 25/30к/с 720p (1280х720) 25/30 к/с | F35: 4 | G35: 85º | H35: 20м | I35: DC 12В±10% 0.5А (ИК вкл.), 6Вт (2 класс PoE) PoE IEEE 802.3a | K35: Встроенный Wi-Fi модуль, поддержка microSD до 128Гб. Интеллектуальные функции ROI и VCA (обнаружение вторжения/пересечение линии). Класс защиты IP66. Поддержка ONVIF | P35: 131 | Q35: =ROUNDUP(P35*$A$1,2) -> 262
B36: NOVICAM PRO IP NC33WP | C36: 1/3" 3 Mpix SONY Progressive Scan CMOS | E36: 3.0 Mp (2304x1296) 20 к/с 1080p (1920х1080) 25/30 к/с 720p (1280x720) 25/30 к/с | F36: 2.8 или 4 мм | G36: 102º | I36: 12 В DC 420 мА (ИК вкл) | K36: PoE IEEE 802.3af | P36: 112.4 | Q36: =ROUNDUP(P36*$A$1,2) -> 224.8
B37: NOVICAM PRO IP NC43WP | C37: 1/3" 4.1 Mpix Progressive Scan CMOS | E37: 4 Mp 2688x1520 20 к/с, 1080p (1920х1080) 25/30 к/с, 960p (1280x960) 25/30 к/с 720p (1280x720) 25/30 к/с | F37: 2.8 | G37: 102º | K37: PoE IEEE 802.3af, D-WDR | P37: 158 | Q37: =ROUNDUP(P37*$A$1,2) -> 316
B39: NOVICAM PRO IP NC22VP | C39: 1/2.8" 2.1 Mpix SONY Progressive Scan CMOS | D39: 0.01 0 (ИК вкл) | E39: 1080p (1920х1080) 25/30 к/с 960p (1280x960) 25/30 к/с 720p (1280x720) 25/30 к/с | F39: 2.8 | G39: 120º | H39: 30м | I39: 12 В DC 420 мА (ИК вкл) | J39: 24 | K39: Антивандальная, MicroSD до 128 Гб, PoE IEEE 802.3af, аудио вход/выход, тревожный вход/выход | P39: 130 | Q39: =ROUNDUP(P39*$A$1,2) -> 260
B40: NOVICAM PRO IP NC32VP | C40: 1/3" 3.0Mpix CMOS | E40: 3 Mpix (2304x1296) 20 к/с, 1080p (1920x1080) 25/30 к/с, 720p (1280х720) 25/30 к/с | G40: 102º | K40: Антивандальная, PoE IEEE 802.3af | P40: 130 | Q40: =ROUNDUP(P40*$A$1,2) -> 260
B41: NOVICAM PRO IP NC42VP | C41: 1/3" 4.1 Mpix Progressive Scan CMOS | E41: 4 Mp 2688x1520 20 к/с, 960p (1280x960) 25/30 к/с 720p (1280x720) 25/30 к/с | K41: Антивандальная, PoE IEEE 802.3af | P41: 187 | Q41: =ROUNDUP(P41*$A$1,2) -> 374
B43: NOVICAM PRO IP NC28VP | C43: 1/3" 2.1 Mpix SONY Progressive Scan CMOS | D43: 0.01 0 (ИК вкл) | E43: 1080p (1920х1080) 25/30 к/с 960p (1280x960) 25/30 к/с 720p (1280x720) 25/30 к/с | F43: 2.8~12 | G43: 102º~28º | H43: 35м | I43: 12 В DC 630 мА (ИК вкл) | J43: 40 | K43: Антивандальная. MicroSD до 128 Гб, аудио вход/выход, тревожный вход/выход, вариофокальный объектив, PoE IEEE 802.3af, WDR (у NC48VP) | P43: 213.6 | Q43: =ROUNDUP(P43*$A$1,2) -> 427.2
B44: NOVICAM PRO IP NC48VP | C44: 1/3" 4.1 Mpix SONY Progressive Scan CMOS | E44: 4 Mp 2688x1520 20 к/с, 960p (1280x960) 25/30 к/с 720p (1280x720) 25/30 к/с | I44: 12 В DC 460 мА (ИК вкл) | J44: 30 | P44: 342.38 | Q44: =ROUNDUP(P44*$A$1,2) -> 684.76
B46: NOVICAM PRO IP NC38VP | C46: 1/3" 3.0 Mpix Progressive Scan CMOS | D46: 0.01 0 (ИК вкл) | E46: 3 Mpix (2304x1296) 20 к/с, 1080p (1920x1080) 25/30 к/с, 720p (1280х720) 25/30 к/с | F46: 2.8~12 | G46: 102º~28º | H46: 35м | I46: 12 В DC 460 мА (ИК вкл) | J46: 40 | K46: Антивандальная. MicroSD до 128 Гб, аудио вход/выход, вариофокальный объектив, PoE IEEE 802.3af, WDR 120 дб | P46: 240 | Q46: =ROUNDUP(P46*$A$1,2) -> 480
B48: NOVICAM PRO IP NC29WP | C48: 1/2.9" 2.1 Mpix SONY Progressive Scan CMOS | D48: 0.01 0 (ИК вкл) | E48: 1080p (1920х1080) 25/30 к/с 960p (1280x960) 25/30 к/с 720p (1280x720) 25/30 к/с | F48: 2.8~12 | G48: 113º~34º | H48: 35м | I48: 12 В DC 630 мА (ИК вкл) | J48: 9 | K48: аудиовход, тревожный вх/вых, MicroSD до 128 Гб, вариофокальный объектив, PoE IEEE 802.3af | P48: 244 | Q48: =ROUNDUP(P48*$A$1,2) -> 488
B49: NOVICAM PRO IP NC39WP | C49: 1/3" 3.0 Mpix Progressive Scan CMOS | E49: 3 Mpix (2304x1296) 20 к/с, 1080p (1920x1080) 25/30 к/с, 720p (1280х720) 25/30 к/с | G49: 102º~28º | K49: Поддержка карт памяти MicroSD до 128 Гб, WDR 120 дБ. Поддержка технологии PoE. Поддержка ONVIF | P49: 244 | Q49: =ROUNDUP(P49*$A$1,2) -> 488
B50: NOVICAM PRO IP NC49WP | C50: 1/3," 4.1 Mpix SONY Progressive Scan CMOS | E50: 4 Mp 2688x1520 20 к/с, 1080p (1920х1080) 25/30 к/с | G50: 102º~28º | K50: MicroSD до 128 Гб, WDR 120 дБ, моторизированный объектив, PoE IEEE 802.3af | P50: 311.3 | Q50: =ROUNDUP(P50*$A$1,2) -> 622.6
C52: Купольные поворотные камеры PRO | Q52: цена
C53: Матрица | D53: Люкс | E53: Разрешение | F53: Объектив мм | G53: Угол диаг. | H53: ИК IR-cut | I53: Питание | J53: Кратность уп, шт | K53: Особенности модели
...

Sheet Видеорегистраторы
A1: ='Акции и спецпредложения'!$A$1 -> 2
B2: Регистраторы SOHO
B3: Мультиплексные видеорегистраторы серии SOHO, созданные на основе процессора HiSilicon, поддерживаюют аналоговые, AHD и IP камеры, позволяют построить полноценную систему видеонаблюдения с минимальными затратами и оборудовать место наблюдения, используя минимум пространства.
B4: Обладают всем необходимым функционалом для организации системы видеонаблюдения: записывают видео в формате H.264, что позволяет экономить до 30% места на жестком диске; поддерживают все самые распространённые ОС ( Windows 10 / 8 / 7 / Vista / XP). Возможен просмотр с мобильных устройств: iPad, iPhone, Android. Лёгкость настройки и доступ к видеорегистратору из любой точки мира предоставляется бесплатным облачным сервисом NOVIcloud. Возможность работы в различных режимах позволит модернизировать систему видеонаблюдения до высокого разрешения.
C5: Аналог+AHD + IP | P5: цена
C7: разрешение | D7: к/с | E7: HDD | F7: Вход | H7: Выход | J7: Количество каналов IP | M7: Кратность уп. | N7: Особенности модели
F8: видео | G8: аудио | H8: видео | I8: аудио | J8: 1,3 Мп | K8: 2 Мп | L8: 5 Мп
B9: NOVICAM AR1104F | C9: FullHD1920x1080 HD 1280x720 960H 960x57 1080n (960х1080) | D9: 120 120 120 48 | E9: SATA x 1 до 10 Тб | H9: 1xVGA 1xHDMI | I9: 1xRCA | J9: 12 | K9: 8 | M9: 10 | N9: 5в1 (AHD, TVI, CVI, IP, аналог), USB Flash, USB мышь. | O9: 57.2 | P9: =ROUNDUP(O9*$A$1,2) -> 114.4
B10: NOVICAM AR1204H | C10: FullHD 1920x1080 HD 1280x720 960H 960x576 5 Мп (IP) | D10: 120 | E10: 1 x SATA 3.5" до 10Тб | F10: 4xBNC | J10: 16 | K10: 8 | L10: 4 | N10: Запись 720р/1080p Real Time в AHD режиме Запись до 5Mpix Real Time в IP режиме Поддержка HDD до 10 Тб Поддержка аналоговых и AHD видеокамер | O10: 64.8 | P10: =ROUNDUP(O10*$A$1,2) -> 129.6
B11: NOVICAM AR1108 | C11: 5Мп (IP) FullHD1920x1080 HD 1280x720 960H 960x576 | D11: 240 | E11: SATA x 1 до 8 Тб | F11: 8xBNC | J11: 16 | K11: 16 | L11: 4 | N11: USB Flash, USB мышь и ИК пульт в комплекте. | O11: 92.4 | P11: =ROUNDUP(O11*$A$1,2) -> 184.8
B12: NOVICAM AR1108F | D12: 240 | E12: SATA x 1 до 10 Тб | J12: 16 | K12: 16 | L12: 4 | N12: 5в1 (AHD, TVI, CVI, аналог, IP), 8x1080n(12 к/с), 8x720p(14 к/с) | O12: 92.4 | P12: =ROUNDUP(O12*$A$1,2) -> 184.8
B13: NOVICAM AR1108H | D13: 240 | J13: 16 | K13: 8 | L13: 4 | N13: Запись IP видеокамер в разрешении до 5Мп Real Time. USB Flash. Блок питания и USB мышь в комплекте. | O13: 116.5 | P13: =ROUNDUP(O13*$A$1,2) -> 233
B14: NOVICAM AR1108HF | D14: 240 | J14: 16 | K14: 8 | L14: 4 | N14: 5в1 (AHD, TVI, CVI, аналог, IP), 8x1080p(12 к/с), 8x1080n (30 к/с) | O14: 116.5 | P14: =ROUNDUP(O14*$A$1,2) -> 233
B15: NOVICAM AR1116H | D15: 480 | E15: SATA x 1 до 10 Тб | F15: 16xBNC | G15: 2xRCA | J15: 16 | K15: 8 | L15: 4 | M15: 5 | N15: 3G, USB Flash. Блок питания и USB мышь в комплекте. | O15: 248.2 | P15: =ROUNDUP(O15*$A$1,2) -> 496.4
B16: NOVICAM AR1016F | C16: 1080n (960х1080) 5Мп (IP) | D16: 240 | J16: 16 | K16: 8 | L16: 4 | N16: 5в1 (AHD, TVI, CVI, IP, аналог). USB мышь и ИК пульт в комплекте. | O16: 171.2 | P16: =ROUNDUP(O16*$A$1,2) -> 342.4
C18: IP | P18: цена
B20: NOVICAM NR1208 | C20: 5Мп 1080p (1920х1080) 960p (1280x960) D1 (704x576) CIF (352x288) | D20: 100 200 400 400 400 | E20: SATA x 1 до10 Тб | F20: 1xRJ45 | G20: 1xRCA | H20: 1xVGA 1xHDMI | I20: 1xRCA | J20: 16 | K20: 8 | L20: 4 | M20: 5 | N20: 2 x USB2.0 (3G модем / Flash), USB мышь и ИК-пульт, 12v DC 2А внешний адаптер в комплекте. | O20: 105.9 | P20: =ROUNDUP(O20*$A$1,2) -> 211.8
B21: NOVICAM NR1232 | C21: 8Мп 5Мп 1080p (1920х1080) 960p (1280x960) | D21: 200 625 800 800 | J21: 32 | K21: 32 | L21: 25 | N21: 2 x USB3.0 (3G модем / Flash), запись Full HD - 100к/с и 200к/с, воспроизведение Full HD - 50к/с, USB мышь и ИК-пульт, 12v DC 2А внешний адаптер в комплекте. 4К видеовыход. Поддержка ONVIF | O21: 142 | P21: =ROUNDUP(O21*$A$1,2) -> 284
B23: NOVICAM NR2232 | C23: 5Мп 4Мп 1080p 720p | D23: 200 400 800 800 | E23: SATA x 2 до10 Тб | F23: 1xRJ45 | G23: 1xRCA | H23: 1 x VGA 1 x HDMI | I23: 1xRCA | J23: 32 | K23: 32 | L23: 8 | N23: Запись всех каналов с разрешением 4К (8 Mpix). Формат записи H.265+ / H.265 / H.264+ / H.264 / MPEG4. Поддержка VCA - интеллектуальной аналитики IP видеокамер. Видеовыход HDMI c разрешением до 4К. Наличие USB 3, поддержка ONVIF | O23: 250.6 | P23: =ROUNDUP(O23*$A$1,2) -> 501.2
B24: NOVICAM NR2816 | C24: 8Мп 5Мп 3Мп 1080p 720p | E24: SATA x2 до10 Тб | F24: 1xRJ45 | G24: 1xRCA | H24: 1 x VGA 1 x HDM | J24: 16 | K24: 16 | L24: 16 | M24: 4 | N24: Поддержка камер 8Mpix (4K разрешение) на всех 16 каналах, поддержка камер с повышенным fps - 50/60 к/с, поддержка форматов сжатия H.265+, H.265, H.264+, H.264, MPEG4, есть тревожные вх/вых - 4/1. | O24: 262 | P24: =ROUNDUP(O24*$A$1,2) -> 524
B26: NOVICAM NR4232 | C26: 5Мп 4Мп 1080p (1920х1080) 960p (1280x960) | D26: 400 400 800 800 | E26: 4 x SATA до 32Тб + e-SATA 8Тб | F26: 1xRJ45 | G26: 1xRCA | H26: 1xVGA 1xHDMI | I26: 1xRCA | J26: 32 | K26: 32 | L26: 8 | M26: 5 | N26: Сеть RJ45: 1 Гбит, 2 x USB2.0+1 x USB3.0 (3G модем / Flash), 1 x RS485, USB мышь и ИК-пульт, 12v DC 2А, Установка в стойку 19" крепление в комплекте. Тревожные вх/вых. 16/4. | O26: 337.92 | P26: =ROUNDUP(O26*$A$1,2) -> 675.84
B28: NOVICAM NR4832 | C28: 8Мп 5Мп 3Мп 1080р (1920х1080) 960p (1280х960) х | E28: 4 x SATA 3,5" до 10Тб каждый | F28: 2xRJ45 | G28: 1xRCA | H28: 1 x VGA 1 x HDMI | J28: 32 | K28: 32 | L28: 32 | M28: 2 | N28: Запись всех каналов с разрешением 4К (8 Mpix). Формат записи H.265+ / H.265 / H.264+ / H.264 / MPEG4. Поддержка VCA - интеллектуальной аналитики IP видеокамер. Видеовыход HDMI c разрешением до 4К USB 3.0. Поддержка ONVIF. Крепления в комплекте | O28: 640.8 | P28: =ROUNDUP(O28*$A$1,2) -> 1281.6
B30: Регистраторы PRO
B31: Профессиональные мультиплексные видеорегистраторы производства компании NOVIcam, созданы на основе высокопроизводительного чипсета HiSilicon с применением новейших технологий. Функции удалённого одновременного подключения до 128 клиентов и облачный сервис P2P позволяют получить доступ к легко подключиться и настроить видеорегистратор пользователям, где бы они не находились. Совместимость программного обеспечения PRO серии позволяет объединять аналоговые, TVI и IP регистраторы NOVIcam PRO в единую сеть наблюдения с возможностью удалённой настройки и управления.
C32: Аналог+TVI + AHD + IP | P32: цена c НДС, руб
C33: Благодаря высокопроизводительному процессору и профессиональной операционной системе, регистраторы гибко настраиваются под необходимые условия и работают одновременно с TVI, аналоговыми и IP камерами. Функция автоопределения распознает какой тип камер был подключен к регистратору – аналоговые или TVI, после чего изображение выводится на экран без необходимости дополнительных настроек.
C34: разрешение | D34: к/с | E34: HDD | F34: Вход | H34: Выход | J34: Количество каналов IP | M34: Кратность уп. | N34: Особенности модели
F35: видео | G35: аудио | H35: видео | I35: аудио | J35: 1 Мп | K35: 2 Мп | L35: 3 Мп
B36: NOVICAM PRO TR1004A | C36: 1080n (960х1080) 720p (1280x720) | D36: 100 100 | E36: SATA x 1 до 8 Тб | F36: 4xBNC | G36: 1xRCA | H36: 1xVGA 1xHDMI | I36: 1xRCA | J36: 5 | L36: - | M36: 10 | N36: 3G, USB Flash. поддержка NAS, поддержка CVI (для TR1016A) | O36: 58 | P36: =ROUNDUP(O36*$A$1,2) -> 116
B37: NOVICAM PRO TR1104A | C37: 3 Мп 1080p (1920х1080) 720p (1280x720) 960H (960x576) | D37: 12 48 100 100 | G37: 4xRCA | H37: 1xVGA 1xHDMI | J37: 5 | K37: 5 | L37: 5 | M37: 8 | N37: RS485. ИК пульт в комплекте, UTC меню, поддержка NAS | O37: 110 | P37: =ROUNDUP(O37*$A$1,2) -> 220
B38: NOVICAM PRO TR1104F | C38: 3 Мп 1080p (1920х1080) 720p (1280x720) 960H (960x576)" | D38: 15 60 100 100 | H38: 1xVGA 1xHDMI 1xBNC | J38: 5 | K38: 5 | L38: 5 | N38: 5в1 (AHD, TVI, CVI, аналог, IP). Живое видео с разрешением 3Мп TVI и 4Мп IP. Дальность передачи TVI сигнала до 500 метров Управление UTC меню TVI камер через кабель видеосигнала. Просмотр с мобильных устройств iPad, iPhone, Android | O38: 110 | P38: =ROUNDUP(O38*$A$1,2) -> 220
B39: NOVICAM PRO TR1116LF | C39: 3Мп 1080p 720p | D39: 60 240 400 | F39: 16хBNC | G39: 1xRCA | H39: 1xVGA 1xHDMI 1xBNC | I39: 1xRCA | J39: 18 | K39: 18 | M39: 4 | N39: Живое видео с разрешением 3Мп TVI и 4Мп IP Квотирование дискового пространства Бесплатный облачный сервис Р2Р. Дальность передачи TVI сигнала до 500 метров Управление UTC меню TVI камер через кабель видеосигнала. Просмотр с мобильных устройств iPad, iPhone, Android | O39: 282.8 | P39: =ROUNDUP(O39*$A$1,2) -> 565.6
B41: NOVICAM PRO TR1008A | C41: 1080n (960х1080) 720p (1280x720) | E41: SATA x 1 до 8 Тб | F41: 8xBNC | G41: 1xRCA | H41: 1xVGA 1xHDMI | I41: 1xRCA | J41: 10 | K41: 10 | M41: 10 | N41: 3G, USB Flash. поддержка NAS | O41: 104 | P41: =ROUNDUP(O41*$A$1,2) -> 208
B42: NOVICAM PRO TR1108F | C42: 4Мп 1080p (1920х1080) 720p (1280x720) 960H (960x576) | D42: 250 120 200 200 | F42: 8xBNC | G42: 4xRCA | H42: 1 x BNC 1xVGA 1xHDMI | J42: 10 | K42: 10 | L42: 10 | M42: 8 | N42: RS485. ИК пульт в комплекте, UTC меню, поддержка NAS, поддержка CVI. Увеличена скорость записи TVI каналов с 12 до 15к/сек | O42: 159.2 | P42: =ROUNDUP(O42*$A$1,2) -> 318.4
B43: NOVICAM PRO TR1208F | C43: 6Мп (IP) 5Мп 3Мп 1080p (1920х1080) 960p (1280x960) 720p (1280x720) | I43: 1xRCA | J43: 10 | K43: 10 | L43: 10 | M43: 8 | N43: Выход HDMI 4К + VGA 1080р, USB Flash, RS485. USB мышь и ИК пульт в комплекте, поддержка NAS. Поддержка 6 Мп. Формат записи H.265+ / H.265 / H.264+ / H.264. Видеовыход HDMI c разрешением до 4К. | O43: 235.4 | P43: =ROUNDUP(O43*$A$1,2) -> 470.8
B44: NOVICAM PRO TR2108F | C44: 4Мп (IP) 3Мп 1080p (1920х1080) 960p (1280x960) 720p (1280x720) | E44: SATA x 2 до 8 Тб | G44: 8xRCA | N44: Выход HDMI 4К + VGA 1080р, USB Flash, RS485. USB мышь и ИК пульт в комплекте, поддержка NAS. Поддержка 4 Мп. Аналитика с аналоговыми камерами. | O44: 292 | P44: =ROUNDUP(O44*$A$1,2) -> 584
B46: NOVICAM PRO TR1016A | C46: 1080n (960х1080) 720p (1280x720) | D46: 400 400 | E46: SATA x 1 до 8 Тб | F46: 16xBNC | G46: '1xRCA | H46: 1xVGA 1xHDMI | I46: 1xRCA | J46: 10 | K46: 10 | M46: 10 | N46: 3G, USB Flash. поддержка NAS, поддержка CVI | O46: 208 | P46: =ROUNDUP(O46*$A$1,2) -> 416
B47: NOVICAM PRO TR2116A | C47: 3 Мп 1080p (1920х1080) 720p (1280x720) 960H (960x576) | D47: 48 192 400 400 | E47: SATA x 2 до 8 Тб каждый | G47: 4xRCA | H47: 1 x BNC 1 x VGA 1 x HDM | I47: 1 x RCA | J47: 18 | K47: 18 | L47: 18 | M47: 4 | N47: Живое видео с разрешением 3Мп. Подключение TVI, AHD, CVI, IP и аналоговых камер. Квотирование дискового пространства Дальность передачи TVI сигнала до 500 метров RS485. ИК пульт в комплекте, UTC меню, поддержка NAS, поддержка CVI | O47: 324 | P47: =ROUNDUP(O47*$A$1,2) -> 648
B48: NOVICAM PRO TR2116F | C48: 3 Мп 1080p (1920х1080) 720p (1280x720) 960H (960x576) | D48: 48 240 400 400 | H48: 1хBNC 1xVGA 1xHDMI (4К) | J48: 18 | K48: 18 | L48: 18 | N48: USB Flash, RS485. ИК пульт в комплекте, UTC меню, поддержка NAS, поддержка CVI. Аналитика с аналоговыми камерами. Формат записи H.265+, H.265, H.264+, H.264 | O48: 385 | P48: =ROUNDUP(O48*$A$1,2) -> 770
B49: NOVICAM PRO TR2216A | C49: 4Мп 3Мп 1080p (1920х1080) 960p (1280x960) 720p (1280x720) | D49: 240 480 480 480 | J49: 18 | K49: 18 | L49: 18 | N49: Выход HDMI 4К + VGA 1080р, USB Flash, RS485. USB мышь и ИК пульт в комплекте, поддержка NAS, поддержка CVI | O49: 552.15 | P49: =ROUNDUP(O49*$A$1,2) -> 1104.3
...

Sheet Аксессуары, комплекты, запись
A1: ='Акции и спецпредложения'!$A$1 -> 2
B2: Аксессуары
C4: Пулть управления IP и аналоговыми поворотными видеокамерами | L4: цена c НДС, руб
C6: Предназначение | E6: Технические параметры | F6: Дальность управления | G6: Особенности модели
B7: NOVIcam ZK101 | C7: Пульт управления для управления купольными поворотными камерами через интерфейс RS-485. Клавиатура ZK101 совместима с купольными поворотными камерами NOVIcam, а так же с другими PTZ устройствами с поддержкой протоколов PELCO-D и PELCO-P. | E7: 1 x RS-485 | F7: до 1200м | G7: ЖК дисплей. Трехмерный джойстик. Встроенное многострочное меню. Возможность задавать и запоминать различные установки, режимы сканирования и траектории. Управление приближением, диафрагмой и фокусировкой камеры Отображение на дисплее текущих настроек. Разъем RS-485; Возможность одновременного управления 31 камерой Совместимость с протоколами управления Pelco-P, Pelco-D. Возможность одновременного управления 128 камерами | K7: 166.4 | L7: =ROUNDUP(K7*$A$1,2) -> 332.8
B8: NOVIcam NK102 | C8: Пульт управления поворотными видеокамерами. Управление IP видеокамерами по протоколу NOVIcam и ONVIF. Управление видеорегистраторами NOVIcam PRO по внутреннему протоколу. | E8: 1 x RS-485 1 x RS-422 1 x RS-232 1 x RJ45 | G8: 128 x 64 дисплей. Трёхмерный джойстик. Встроенное меню. Поддержка управления аналоговыми устройствами через интерфейс RS-485. Управление приближением, диафрагмой и фокусировкой видеокамеры. Отображение на дисплее текущих настроек Большой цветной LCD-дисплей с подсветкой 8". 1 видеоканал вход/выход. Разъемы USB, VGA. Протокол управления RS485. | K8: 508 | L8: =ROUNDUP(K8*$A$1,2) -> 1016
C10: Кронштейны к купольным поворотным камерам | L10: цена
C12: Предназначение | F12: Место крепеления | G12: Длина | H12: Совместимость с камерами
B13: NOVICAM CH102 | C13: Кронштейн для крепления на стену | F13: К стене | G13: 9,7 см | H13: Кронштейн для NC24P | K13: 14.3 | L13: =ROUNDUP(K13*$A$1,2) -> 28.6
B14: NOVICAM PH701 | C14: Кронштейн для крепления камеры | F14: на потолок | G14: 20 см | H14: TP123, TP223, NP220 | K14: 29 | L14: =ROUNDUP(K14*$A$1,2) -> 58
B15: NOVICAM PH708 | C15: Основание на столб для крепления кронштейна | F15: на столб | G15: 25 см | K15: 29 | L15: =ROUNDUP(K15*$A$1,2) -> 58
B16: NOVICAM PH790 | C16: Основание для крепления камеры Для установки камеры на основание требуется также настенное крепление. | F16: на угол | G16: 25 см | K16: 29 | L16: =ROUNDUP(K16*$A$1,2) -> 58
C18: Тестер | L18: цена
C19: Удобные клавиши управления позволяют настраивать меню видеокамер и управлять PTZ видеокамерами. Так же тестер имеет разъёмы VGA, HDMI что дает возможность подключить видеорегистратор и настроить его.
C20: Предназначение | D20: Формат | E20: Экран | F20: Батарея | G20: Питание входное | H20: Питание выходное | I20: Особенности модели
B21: NOVICAM PRO TVI TESTER | C21: Настройка изображения с TVI, AHD и аналоговых камер | D21: До 1080p TVI, analog | E21: 7", цветной | F21: Li-ion, 7800мА | G21: DC 12.6В 1А 12Вт | H21: DC 12В 2А 24Вт | I21: зарядное устройство АС110-220В в комплекте | K21: 298.2 | L21: =ROUNDUP(298.2*$A$1,2) -> 596.4
C25: Микрофоны | L25: цена
C27: Акустическая дальность | D27: Полоса пропускания | E27: Соотношение сигнал/шум | F27: Дальность передачи аудио | G27: Исполнение | H27: Питание | I27: Особенности модели
B28: NOVICAM AM16 | C28: 6 м | D28: 100 - 7500 Гц | E28: 55 Дб | F28: 1000 м | G28: внутреннее | H28: DC12В 0.015А | I28: Активный | K28: 3.2 | L28: =ROUNDUP(K28*$A$1,2) -> 6.4
B29: NOVICAM AM110G | C29: 10м | D29: 20 - 20000 Гц | H29: DC12В 0.02А | I29: Активный, регулировка усиления | K29: 5 | L29: =ROUNDUP(K29*$A$1,2) -> 10
B30: NOVICAM AM510G | K30: 5.2 | L30: =ROUNDUP(K30*$A$1,2) -> 10.4
B31: NOVICAM AM710W | G31: уличное | I31: Активный | K31: 13.7 | L31: =ROUNDUP(K31*$A$1,2) -> 27.4
C33: 3G модем | L33: цена
B34: Модем 3G E173 | C34: Работа со всеми сотовыми операторами. Совместим со всеми регистраторами NOVIcam, поддерживающими работу через модем. | K34: 28.33 | L34: =35.56*$A$1 -> 71.12
C36: Муляжи видеокамер | L36: цена
C38: Питание | E38: Исполнение | H38: Особенности модели
B39: NOVICAM C11 | C39: 3v DC, 2хААА | E39: Внутреннее | H39: Светодиод, имитирующий работу камеры | K39: 5.2 | L39: =ROUNDUP(K39*$A$1,2) -> 10.4
B40: NOVICAM C13W | E40: Уличное IP66 | K40: 12.1 | L40: =ROUNDUP(K40*$A$1,2) -> 24.2
C42: Монтажные коробки | L42: цена
C44: Предназначение | F44: Материал корпуса | H44: Совместимость с камерами
B45: NOVICAM BOX Bullet | C45: Монтаж уличных видеокамер типа "пуля" | F45: высококачественный алюминиевый сплав | H45: FC19W, T29W, FC29W, T39W, NC29WP, NC39WP, NC49WP | K45: 20.3 | L45: =ROUNDUP(K45*$A$1,2) -> 40.6
B47: Комплект IP-видеонаблюдения | L47: цена
C48: Готовые комплекты видеонаблюдения созданы специально для конечного потребителя. В комплект входят все необходимые компоненты, включая кабель и коннекторы.
C49: Исполнение | D49: Камеры | E49: Комплектация | I49: Особенности
B50: NOVICAM FK1104 | C50: Уличное | D50: IP камеры 720p | E50: - Видеорегистратор - 1 шт. - IP камера - 4 шт. - Адаптер питания для видеорегистратора - 1 шт. - Адаптер питания для IP камеры - 4 шт. - USB мышь - 1 шт. - Крепежный комплект HDD - 1 шт. - Крепежный комплект для IP камер - 4 шт. - Влагозащищенный разъем - 4 шт. - Форма для точного монтажа - 4шт. - CD диск - 1 шт. - Краткое руководство пользователя - 1шт. - Кабель питания HDD - 1 шт. - Кабель данных SATA - 1 шт. | I50: Идеальное решение для улицы, дачи, гаража Мобильное приложение для iOs и Android Полный комплект для подключения Возможность записи по времени и по движению Отправка оповещений по тревоге на e-mail Меню на русском языке | K50: 271 | L50: =ROUNDUP(K50*$A$1,2) -> 542
B52: Решения для хранения видеосигнала
B54: Профессиональные накопители для систем видеонаблюдения | C54: Профессиональные флеш накопители для систем видеонаблюдения | L54: цена
C55: MicroSD карта памяти предназначенная для установки в IP видеокамеры, что позволяет вести запись без использования видеорегистраторов или внешних хранилищ.
C56: Емкость, ГБ | D56: Тип | E56: Класс | F56: Скорость | G56: Особенности модели | I56: Совместимость
B57: MC4396 | C57: 64 | D57: MicroSD | E57: 10 | F57: чтения 25 мб/с записи 20 мб/с | G57: Защита от статического элек-ва и воздействия высоких темп-р | I57: с разъемами microSDHC и microSDXС | K57: 81.5 | L57: =27*$A$1 -> 54
...

Sheet Домофония
A1: ='Акции и спецпредложения'!$A$1 -> 2
B2: Домофония
B3: Домофонные системы (домофоны) — электронные системы - разновидность систем ограничения доступа, передающие сигнал от вызывного блока к переговорному устройству. Они обеспечивают безопасность и сохранность имущества в офисах, квартирах, частных домах, могут быть установлены в подъездах многоквартирных домов. Существуют решения на основе IP и аналоговые решения. NOVIcam представляет свою продукцию линейки PRO в IP решениях, основным преимуществом которых является масштабируемость и возможность создания сложных систем. И линейку SOHO в аналоге, отличающуюся простотой монтажа и доступностью.
B4: АНАЛОГОВЫЕ РЕШЕНИЯ | L4: цена c НДС, руб
D5: КОМПЛЕКТЫ
C6: Комплекты видеодомофоны NOVIcam предназначены для организации домофонной аудио и видео системы. В комлект входит монитор и вызывная панель, которые позволяют управлять электрозамками, осуществлять голосовую связь и видеомониторинг.
C7: Дисплей | D7: Кол-во выз.панелей | E7: Память | F7: Доп.мониторы | G7: Камеры | H7: Питание | I7: Кратность уп.(шт.) | J7: Особенности
E8: БЮДЖЕТНЫЕ КОМПЛЕКТЫ ВИДЕОДОМОФОНОВ
B9: NOVICAM SMILE 4 KIT | C9: Цветной ЖК 4.3" (320х240) | D9: LEGEND SILVER (540 ТВЛ, 66°) в комплекте + 1 опция | E9: - | F9: До 3 (SMILE или MAGIC) | G9: 1 (вместо 2-ой панели) | H9: Универсальное AC 220В/DC 12В, 3.6Вт | I9: 10 | J9: Механические кнопки управления; Интерком и переадресация между мониторами; Оригинальный дизайн; Управление любым электрозамком; Настройка изображения и уровня громкости; Совместимость с многоквартирными домофонами через модули сопряжения. | K9: 92.4 | L9: =ROUNDUP(K9*$A$1,2) -> 184.8
B10: NOVICAM SMILE 7 KIT | C10: Цветной ЖК 7" (800х480) | H10: Универсальное AC 220В/DC12В, 4.8Вт | K10: 113.8 | L10: =ROUNDUP(K10*$A$1,2) -> 227.6
C12: Мониторы видеодомофонов | L12: Цена
C13: Мониторы NOVIcam предназначены для организации домофонной аудио и видео системы. Устанавливаются совместно с вызывными панелями и позволяют управлять электрозамками, осуществлять голосовую связь и видеомониторинг.
C14: Дисплей | D14: Кол-во панелей | E14: Память | F14: Доп.мониторы | G14: Камеры | H14: Питание | I14: Кратность уп. (шт.) | J14: Особенности
D15: СЕРИЯ БЮДЖЕТНЫХ МОНИТОРОВ
